BEGIN:VCALENDAR
VERSION:2.0
PRODID:-//Wrightslaw Way - ECPv6.8.3//NONSGML v1.0//EN
CALSCALE:GREGORIAN
METHOD:PUBLISH
X-ORIGINAL-URL:https://www.wrightslaw.com/blog
X-WR-CALDESC:Events for Wrightslaw Way
REFRESH-INTERVAL;VALUE=DURATION:PT1H
X-Robots-Tag:noindex
X-PUBLISHED-TTL:PT1H
BEGIN:VTIMEZONE
TZID:America/Halifax
BEGIN:DAYLIGHT
TZOFFSETFROM:-0400
TZOFFSETTO:-0300
TZNAME:ADT
DTSTART:20250309T060000
END:DAYLIGHT
BEGIN:STANDARD
TZOFFSETFROM:-0300
TZOFFSETTO:-0400
TZNAME:AST
DTSTART:20251102T050000
END:STANDARD
TZID:America/Caracas
BEGIN:STANDARD
TZOFFSETFROM:-0400
TZOFFSETTO:-0400
TZNAME:-04
DTSTART:20250101T000000
END:STANDARD
END:VTIMEZONE
BEGIN:VEVENT
DTSTART;TZID=America/Halifax:20250904T090000
DTEND;TZID=America/Halifax:20250904T163000
DTSTAMP:20260424T221959
CREATED:20250411T181217Z
LAST-MODIFIED:20250711T134610Z
UID:27371-1756976400-1757003400@www.wrightslaw.com
SUMMARY:OKC\, OK
DESCRIPTION:This Wrightslaw From Emotions to Advocacy Conference\, a Wrightslaw training program featuring Pat Howey\, is being sponsored by Sooner SUCCESS. The program will be held at the Innovation Hall\, located at 316 NE Ninth Street in Oklahoma City\, OK. \nIn the From Emotions to Advocacy training program (one day\, 6 hours)\, you learn how to take an active role in managing your child’s special education. You’ll learn about the five key sections in the Individuals with Disabilities Education Act (IDEA)\, what our child’s test scores mean\, and how to develop SMART IEPs. You will learn how to prepare for meetings\, the gentle art of disagreeing\, and how to maintain healthy working relationships with the school. You will learn: \n\nabout IDEA – Sections 1400\, 1401\, 1412\, 1414 and 1415\nusing the Bell Curve to understand your child’s strengths and needs\nusing a parent agenda\nhow to build healthy working relationships with school personnel\nhow to document information that may prevent or resolve disputes\nhow to participate as an equal member of your child’s IEP Team\n\nAll Wrightslaw programs are designed to meet the needs of parents\, educators\, health care providers\, advocates and attorneys who represent children with disabilities regarding special education. The program is not disability specific. \nConference fee includes a light breakfast\, lunch\, a Wrightslaw highlighter pen\, three Wrightslaw books – Wrightslaw: Special Education Law\, 3nd Edition\, Wrightslaw: From Emotions to Advocacy\, 2nd Edition\, and Wrightslaw: All About IEPs provided the morning of the conference. Wrightslaw will provide the three books to each attendee in the adobe.pdf format as well. The three print and pdf books retail for $113.60. \nRegister Online: Click here to register online. \nFlyer: Download and share the training flyer. \nScholarships: Limited scholarships are available to Oklahoma parents of children with disabilities or special needs. Apply here for parent a scholarship. \nAccommodations: Attendee can specify accommodations during the registration process as well as emailing sooner-success |at| ouhsc.edu. \nQuestions? Contact the sponsors by calling 405-271-2710 or emailing sooner-success |at| ouhsc.edu or by fax 405-271-2711. \nSee you in Oklahoma!
URL:https://www.wrightslaw.com/blog/event/okc-ok-6/
LOCATION:Innovation Hall\, 316 NE Ninth Street\, Oklahoma City\, OK\, 73104\, United States
CATEGORIES:Conference,Training
ATTACH;FMTTYPE=image/png:https://www.wrightslaw.com/blog/wp-content/uploads/2025/04/Screenshot-2025-07-11-at-9.30.35 AM.png
END:VEVENT
BEGIN:VEVENT
DTSTART;TZID=America/Halifax:20250918T090000
DTEND;TZID=America/Halifax:20250918T163000
DTSTAMP:20260424T221959
CREATED:20241111T175336Z
LAST-MODIFIED:20250721T173137Z
UID:27303-1758186000-1758213000@www.wrightslaw.com
SUMMARY:MD via ZOOM
DESCRIPTION:Wrightslaw Special Education Law and Advocacy Conference\, a Wrightslaw training program featuring Pete Wright\, Esq.\, is being co-sponsored by The Parents’ Place of Maryland and the PEAL Center. \nThis one-day special education law and advocacy program focuses on four areas: \n\nspecial education law\, rights and responsibilities\ntests and measurements to measure progress & regression\nSMART IEPs\nintroduction to tactics & strategies for effective advocacy\n\nWrightslaw programs are designed to meet the needs of parents\, educators\, health care providers\, advocates and attorneys who represent children with disabilities regarding special education. The program is not disability specific. \nConference fee includes: a Wrightslaw highlighter pen\, three Wrightslaw books – Wrightslaw: Special Education Law\, 3rd Edition\, Wrightslaw: From Emotions to Advocacy\, 2nd Edition\, and Wrightslaw: All About IEPs. Wrightslaw will provide the three books to each attendee in the adobe.pdf format as well. The three print and pdf books retail for $113.60. \nFlyer: Download and share the conference flyer. \nRegister Online: Click here to register online. \nCertificates of attendance for professional development will be offered. \nQuestions? Contact the sponsor by email communications |at| ppmd.org
URL:https://www.wrightslaw.com/blog/event/md-via-zoom-3/
CATEGORIES:Conference,Training
END:VEVENT
BEGIN:VEVENT
DTSTART;TZID=America/Caracas:20250925T090000
DTEND;TZID=America/Caracas:20250925T163000
DTSTAMP:20260424T221959
CREATED:20250326T144046Z
LAST-MODIFIED:20250922T174850Z
UID:27360-1758790800-1758817800@www.wrightslaw.com
SUMMARY:Tifton\, GA
DESCRIPTION:This one-day Wrightslaw Special Education Law and Advocacy Conference\, featuring Pete Wright\, is being sponsored by The Conner Group for Pediatric Therapies\, LLC. \nThe program will be held at the University of Georgia Conference Center\, located at 15 RDC Road in Tifton\, GA. \nThis One-day special education law and advocacy programs focus on four areas: \n\nspecial education law\, rights and responsibilities\ntests and measurements to measure progress & regression\nSMART IEPs\nintroduction to tactics & strategies for effective advocacy\n\nRegistration fee includes lunch and refreshments\, three books Wrightslaw: Special Education Law\, 3rd Edition\, Wrightslaw: From Emotions to Advocacy\, 2nd Edition and Wrightslaw: All About IEPs. \nDownload the training flyer. \nWrightslaw programs are designed to meet the needs of parents\, educators\, health care providers\, advocates and attorneys who represent children with disabilities regarding special education. The program is not disability specific. \nFor all conference details to include registration fees\, credit information and more\, click here! \nSee you in Georgia!
URL:https://www.wrightslaw.com/blog/event/tifton-ga-2/
LOCATION:UGA Conference Center\, 15 RDC Road\, Tifton\, GA\, 31794\, United States
CATEGORIES:Conference,Training
END:VEVENT
END:VCALENDAR