BEGIN:VCALENDAR
VERSION:2.0
PRODID:-//Wrightslaw Way - ECPv6.8.3//NONSGML v1.0//EN
CALSCALE:GREGORIAN
METHOD:PUBLISH
X-ORIGINAL-URL:https://www.wrightslaw.com/blog
X-WR-CALDESC:Events for Wrightslaw Way
REFRESH-INTERVAL;VALUE=DURATION:PT1H
X-Robots-Tag:noindex
X-PUBLISHED-TTL:PT1H
BEGIN:VTIMEZONE
TZID:America/Halifax
BEGIN:DAYLIGHT
TZOFFSETFROM:-0400
TZOFFSETTO:-0300
TZNAME:ADT
DTSTART:20230312T060000
END:DAYLIGHT
BEGIN:STANDARD
TZOFFSETFROM:-0300
TZOFFSETTO:-0400
TZNAME:AST
DTSTART:20231105T050000
END:STANDARD
END:VTIMEZONE
BEGIN:VEVENT
DTSTART;TZID=America/Halifax:20230930T090000
DTEND;TZID=America/Halifax:20230930T163000
DTSTAMP:20260421T211922
CREATED:20230221T164645Z
LAST-MODIFIED:20230509T173645Z
UID:26843-1696064400-1696091400@www.wrightslaw.com
SUMMARY:Dallas\, TX
DESCRIPTION:This One-Day Wrightslaw Special Education Law and Advocacy program will focus on four areas: \n*special education law\, rights and responsibilities\n*tests and measurements to measure progress & regression\n*SMART IEPs\n*introduction to tactics & strategies for effective advocacy \nWrightslaw programs are designed to meet the needs of parents\, educators\, health care providers\, advocates and attorneys who represent children with disabilities regarding special education. The program is not disability specific. \nThis Wrightslaw training program featuring Wayne Steedman\, Esq.\, is being sponsored by the Down Syndrome Guild of Dallas. \nThe program will be held at the Irving Convention Center at Las Colinas\, Jr. Ballroom\, located at 500 West Las Colinas Blvd.\nin Irving\, TX. Speaker for this Wrightslaw training will be Wayne Steedman\, Esq. \nConference fee includes coffee\, water and tea along with assorted mini pastries and fruit\, boxed lunch\, gluten free boxed lunch or vegetarian boxed lunch\, refreshments\, a Wrightslaw highlighter pen\, three Wrightslaw books – Wrightslaw: Special Education Law\, 3rd Ed.\, Wrightslaw: From Emotions to Advocacy\, 2nd Ed.\, and Wrightslaw: All About IEPs provided the morning of the conference and then\, within a week after the program\, Wrightslaw will email those three books to each attendee in the adobe.pdf format. The three print and pdf books retail for $103.70.  \nRegister: Click here to register online. \nFlyer: Download and share the Save-the-Date flyer. \nCredits: 6.0 CLEs (continuing legal education) credits through the State Bar of Texas and 0.6 CEU’s (continuing education units) through Delta State University are pending. \nSee you in Dallas!
URL:https://www.wrightslaw.com/blog/event/dallas-tx-2/
LOCATION:Irving Convention Center at Los Colinas\, 500 West Las Colinas Blvd\, Irving\, TX\, 75039\, United States
CATEGORIES:Conference,Training
END:VEVENT
END:VCALENDAR