BEGIN:VCALENDAR
VERSION:2.0
PRODID:-//Wrightslaw Way - ECPv6.8.3//NONSGML v1.0//EN
CALSCALE:GREGORIAN
METHOD:PUBLISH
X-ORIGINAL-URL:https://www.wrightslaw.com/blog
X-WR-CALDESC:Events for Wrightslaw Way
REFRESH-INTERVAL;VALUE=DURATION:PT1H
X-Robots-Tag:noindex
X-PUBLISHED-TTL:PT1H
BEGIN:VTIMEZONE
TZID:America/Halifax
BEGIN:DAYLIGHT
TZOFFSETFROM:-0400
TZOFFSETTO:-0300
TZNAME:ADT
DTSTART:20240310T060000
END:DAYLIGHT
BEGIN:STANDARD
TZOFFSETFROM:-0300
TZOFFSETTO:-0400
TZNAME:AST
DTSTART:20241103T050000
END:STANDARD
END:VTIMEZONE
BEGIN:VEVENT
DTSTART;TZID=America/Halifax:20240320T090000
DTEND;TZID=America/Halifax:20240321T163000
DTSTAMP:20260421T093629
CREATED:20231207T173250Z
LAST-MODIFIED:20240112T164826Z
UID:27096-1710925200-1711038600@www.wrightslaw.com
SUMMARY:CA via ZOOM - Private Staff Training
DESCRIPTION:Two-day virtual training (internal) for Regional Centers’ (RC) staff including Individuals with Disabilities Education Act (IDEA) Specialists\, Service Coordinators\, Employment Specialists and Department of Developmental Services’ (DDS) staff. This training is closed to the public. Speaker: Pete Wright. \n\n\nNote: Wrightslaw provides private training for agencies\, organizations\, private schools\, clinics\, etc. These programs are designed to meet the specific needs of the members and\, at the discretion of the hosting organization/agency\, may be closed to the public. \nIf you are interested in Wrightslaw training for your staff or team\, please click here for details. \nTrainings can be LIVE or via ZOOM! \n  \n 
URL:https://www.wrightslaw.com/blog/event/ca-via-zoom-private-staff-training/
CATEGORIES:Conference,Training
END:VEVENT
END:VCALENDAR