BEGIN:VCALENDAR
VERSION:2.0
PRODID:-//Wrightslaw Way - ECPv6.8.3//NONSGML v1.0//EN
CALSCALE:GREGORIAN
METHOD:PUBLISH
X-ORIGINAL-URL:https://www.wrightslaw.com/blog
X-WR-CALDESC:Events for Wrightslaw Way
REFRESH-INTERVAL;VALUE=DURATION:PT1H
X-Robots-Tag:noindex
X-PUBLISHED-TTL:PT1H
BEGIN:VTIMEZONE
TZID:America/Halifax
BEGIN:DAYLIGHT
TZOFFSETFROM:-0400
TZOFFSETTO:-0300
TZNAME:ADT
DTSTART:20200308T060000
END:DAYLIGHT
BEGIN:STANDARD
TZOFFSETFROM:-0300
TZOFFSETTO:-0400
TZNAME:AST
DTSTART:20201101T050000
END:STANDARD
END:VTIMEZONE
BEGIN:VEVENT
DTSTART;TZID=America/Halifax:20201110T090000
DTEND;TZID=America/Halifax:20201110T170000
DTSTAMP:20260423T221006
CREATED:20190710T141607Z
LAST-MODIFIED:20200922T170350Z
UID:24615-1604998800-1605027600@www.wrightslaw.com
SUMMARY:Park City\, UT
DESCRIPTION:This online training program will be held using ZOOM and attendance will be capped at 100. \nConference fee includes three Wrightslaw pdf downloads – Wrightslaw: Special Education Law\, 2nd Edition\, Wrightslaw: From Emotions to Advocacy\, 2nd Edition and Wrightslaw: All About IEPs. In advance of the training\, you will be provided with a ZOOM link and a link to download the adobe.pdf versions of the books.
URL:https://www.wrightslaw.com/blog/event/park-city-ut/
CATEGORIES:Conference,Training
END:VEVENT
END:VCALENDAR