BEGIN:VCALENDAR
VERSION:2.0
PRODID:-//Wrightslaw Way - ECPv6.8.3//NONSGML v1.0//EN
CALSCALE:GREGORIAN
METHOD:PUBLISH
X-WR-CALNAME:Wrightslaw Way
X-ORIGINAL-URL:https://www.wrightslaw.com/blog
X-WR-CALDESC:Events for Wrightslaw Way
REFRESH-INTERVAL;VALUE=DURATION:PT1H
X-Robots-Tag:noindex
X-PUBLISHED-TTL:PT1H
BEGIN:VTIMEZONE
TZID:America/Halifax
BEGIN:DAYLIGHT
TZOFFSETFROM:-0400
TZOFFSETTO:-0300
TZNAME:ADT
DTSTART:20200308T060000
END:DAYLIGHT
BEGIN:STANDARD
TZOFFSETFROM:-0300
TZOFFSETTO:-0400
TZNAME:AST
DTSTART:20201101T050000
END:STANDARD
END:VTIMEZONE
BEGIN:VEVENT
DTSTART;TZID=America/Halifax:20200515T090000
DTEND;TZID=America/Halifax:20200515T163000
DTSTAMP:20260424T073651
CREATED:20191211T165150Z
LAST-MODIFIED:20200330T151543Z
UID:25410-1589533200-1589560200@www.wrightslaw.com
SUMMARY:Virginia Beach\, VA
DESCRIPTION:Due to the Corona-virus outbreak\, this training has been postponed. A new date is pending. We will update you as soon as possible. \nThis Wrightslaw Special Education Law and Advocacy Conference\, a Wrightslaw training program featuring Pete Wright\, Esq.\, is being sponsored by TEAM Caleb Josiah. \nThe programs will be held at the Tidewater Community College Virginia Beach Campus\, located at 1700 College Crescent\, Student Center\, 2nd Floor in Virginia Beach\, VA 23453. The trainings takes place on Friday\, May 15\, 2020. \nEach one-day special education law and advocacy program will focus on four areas: \n\nspecial education law\, rights and responsibilities\ntests and measurements to measure progress & regression\nSMART IEPs\nintroduction to tactics & strategies for effective advocacy\n\nWrightslaw programs are designed to meet the needs of parents\, educators\, health care providers\, advocates and attorneys who represent children with disabilities regarding special education. The program is not disability specific. \nFor all conference details to include registration details\, please click here. \nSee you in Virginia Beach!
URL:https://www.wrightslaw.com/blog/event/virginia-beach-va-2/
LOCATION:Tidewater Community College\, Virginia Beach Campus\, 1700 College Crescent Student Center\, 2nd Floor\, Virginia Beach\, VA\, 23453\, United States
CATEGORIES:Conference,Training
END:VEVENT
BEGIN:VEVENT
DTSTART;TZID=America/Halifax:20200529T090000
DTEND;TZID=America/Halifax:20200529T163000
DTSTAMP:20260424T073651
CREATED:20200214T161431Z
LAST-MODIFIED:20200610T130651Z
UID:25612-1590742800-1590769800@www.wrightslaw.com
SUMMARY:OKC\, OK
DESCRIPTION:Due to the Corona-virus outbreak\, this training has been postponed. A new date is pending. We will update you as soon as possible.
URL:https://www.wrightslaw.com/blog/event/okc-ok-2/
CATEGORIES:Conference,Training
END:VEVENT
END:VCALENDAR