BEGIN:VCALENDAR
VERSION:2.0
PRODID:-//Wrightslaw Way - ECPv6.8.3//NONSGML v1.0//EN
CALSCALE:GREGORIAN
METHOD:PUBLISH
X-ORIGINAL-URL:https://www.wrightslaw.com/blog
X-WR-CALDESC:Events for Wrightslaw Way
REFRESH-INTERVAL;VALUE=DURATION:PT1H
X-Robots-Tag:noindex
X-PUBLISHED-TTL:PT1H
BEGIN:VTIMEZONE
TZID:America/Halifax
BEGIN:DAYLIGHT
TZOFFSETFROM:-0400
TZOFFSETTO:-0300
TZNAME:ADT
DTSTART:20190310T060000
END:DAYLIGHT
BEGIN:STANDARD
TZOFFSETFROM:-0300
TZOFFSETTO:-0400
TZNAME:AST
DTSTART:20191103T050000
END:STANDARD
END:VTIMEZONE
BEGIN:VEVENT
DTSTART;TZID=America/Halifax:20191211T090000
DTEND;TZID=America/Halifax:20191211T163000
DTSTAMP:20260424T160355
CREATED:20191031T133615Z
LAST-MODIFIED:20191107T203705Z
UID:25260-1576054800-1576081800@www.wrightslaw.com
SUMMARY:Oklahoma City\, OK
DESCRIPTION:New training! Registration fee is $50. This training will sell out fast! \nConference fee includes light breakfast\, boxed lunch\, training bag\, a Wrightslaw highlighter pen\, three Wrightslaw books – Wrightslaw: Special Education Law\, 2nd Ed.\, Wrightslaw: From Emotions to Advocacy\, 2nd Ed.\, and Wrightslaw: All About IEPs provided the morning of the conference. \nBonus: Within a week after the program\, Wrightslaw will email those three books to each attendee in the adobe.pdf format. The three print and pdf books retail for $103.70.
URL:https://www.wrightslaw.com/blog/event/oklahoma-city-ok/
LOCATION:Metro Technology Center\, 1900 Springlake Drive\, Oklahoma City\, OK\, 73111\, United States
CATEGORIES:Conference,Training
END:VEVENT
END:VCALENDAR