BEGIN:VCALENDAR
VERSION:2.0
PRODID:-//Wrightslaw Way - ECPv6.8.3//NONSGML v1.0//EN
CALSCALE:GREGORIAN
METHOD:PUBLISH
X-ORIGINAL-URL:https://www.wrightslaw.com/blog
X-WR-CALDESC:Events for Wrightslaw Way
REFRESH-INTERVAL;VALUE=DURATION:PT1H
X-Robots-Tag:noindex
X-PUBLISHED-TTL:PT1H
BEGIN:VTIMEZONE
TZID:America/Halifax
BEGIN:DAYLIGHT
TZOFFSETFROM:-0400
TZOFFSETTO:-0300
TZNAME:ADT
DTSTART:20190310T060000
END:DAYLIGHT
BEGIN:STANDARD
TZOFFSETFROM:-0300
TZOFFSETTO:-0400
TZNAME:AST
DTSTART:20191103T050000
END:STANDARD
END:VTIMEZONE
BEGIN:VEVENT
DTSTART;TZID=America/Halifax:20191024T090000
DTEND;TZID=America/Halifax:20191024T163000
DTSTAMP:20260424T193700
CREATED:20181214T195151Z
LAST-MODIFIED:20190628T181255Z
UID:23655-1571907600-1571934600@www.wrightslaw.com
SUMMARY:BWI Airport\, MD
DESCRIPTION:This Wrightslaw Special Education Law and Advocacy Conference\, a Wrightslaw training program featuring Pete Wright\, Esq.\, is being sponsored by The Parents’ Place of Maryland. \nThe training will take place at the Sheraton Baltimore Washington Airport Hotel – BWI on Thursday\, October 24\, 2019. \nThis One-day special education law and advocacy program will focus on four areas: \n\nspecial education law\, rights and responsibilities\ntests and measurements to measure progress & regression\nSMART IEPs\nintroduction to tactics & strategies for effective advocacy\n\nWrightslaw programs are designed to meet the needs of parents\, educators\, health care providers\, advocates and attorneys who represent children with disabilities regarding special education. The program is not disability specific. \nSee you in Maryland!
URL:https://www.wrightslaw.com/blog/event/glen-burnie-area-md/
LOCATION:Sheraton Baltimore Washington Airport Hotel – BWI\, 1100 Old Elkridge Landing Road\, Linthicum Heights\, MD\, 21090\, United States
CATEGORIES:Conference,Training
END:VEVENT
END:VCALENDAR