BEGIN:VCALENDAR
VERSION:2.0
PRODID:-//Wrightslaw Way - ECPv6.8.3//NONSGML v1.0//EN
CALSCALE:GREGORIAN
METHOD:PUBLISH
X-WR-CALNAME:Wrightslaw Way
X-ORIGINAL-URL:https://www.wrightslaw.com/blog
X-WR-CALDESC:Events for Wrightslaw Way
REFRESH-INTERVAL;VALUE=DURATION:PT1H
X-Robots-Tag:noindex
X-PUBLISHED-TTL:PT1H
BEGIN:VTIMEZONE
TZID:America/Halifax
BEGIN:DAYLIGHT
TZOFFSETFROM:-0400
TZOFFSETTO:-0300
TZNAME:ADT
DTSTART:20260308T060000
END:DAYLIGHT
BEGIN:STANDARD
TZOFFSETFROM:-0300
TZOFFSETTO:-0400
TZNAME:AST
DTSTART:20261101T050000
END:STANDARD
END:VTIMEZONE
BEGIN:VEVENT
DTSTART;TZID=America/Halifax:20260312T090000
DTEND;TZID=America/Halifax:20260312T163000
DTSTAMP:20260424T132449
CREATED:20260203T182018Z
LAST-MODIFIED:20260210T183337Z
UID:27515-1773306000-1773333000@www.wrightslaw.com
SUMMARY:On Long Island\, NY
DESCRIPTION:Registration is now OPEN! \nClick here for registration details. \nFor ALL training details\, please click here. \nSee you on Long Island!
URL:https://www.wrightslaw.com/blog/event/melville-ny/
LOCATION:Marrott Melville Long Island\, 1350 Walt Whitman Road\, Melville\, NY\, 11747\, United States
END:VEVENT
END:VCALENDAR